BEGIN:VCALENDAR
VERSION:2.0
PRODID:-//PPGCITED - ECPv6.15.20//NONSGML v1.0//EN
CALSCALE:GREGORIAN
METHOD:PUBLISH
X-WR-CALNAME:PPGCITED
X-ORIGINAL-URL:https://ppgcited.cavg.ifsul.edu.br
X-WR-CALDESC:Eventos para PPGCITED
REFRESH-INTERVAL;VALUE=DURATION:PT1H
X-Robots-Tag:noindex
X-PUBLISHED-TTL:PT1H
BEGIN:VTIMEZONE
TZID:America/Sao_Paulo
BEGIN:STANDARD
TZOFFSETFROM:-0300
TZOFFSETTO:-0300
TZNAME:-03
DTSTART:20230101T000000
END:STANDARD
END:VTIMEZONE
BEGIN:VEVENT
DTSTART;TZID=America/Sao_Paulo:20240423T140000
DTEND;TZID=America/Sao_Paulo:20240423T170000
DTSTAMP:20260423T041421
CREATED:20240419T140311Z
LAST-MODIFIED:20240419T140311Z
UID:10000004-1713880800-1713891600@ppgcited.cavg.ifsul.edu.br
SUMMARY:Qualificação - Virginia de Jesus Motta
DESCRIPTION:Título: Virulento: uma abordagem lúdico-educativa sobre patologias infectocontagiosas na educação em prevenção da saúde \n\n\n\nOrientador (a): Marcos André Betemps Vaz da Silva \n\n\n\nForma: Presencial – Miniauditório 3
URL:https://ppgcited.cavg.ifsul.edu.br/index.php/bancas/qualificacao-virginia-de-jesus-motta/
LOCATION:Brasil
CATEGORIES:Banca de Qualificação
END:VEVENT
BEGIN:VEVENT
DTSTART;TZID=America/Sao_Paulo:20240426T093000
DTEND;TZID=America/Sao_Paulo:20240426T120000
DTSTAMP:20260423T041421
CREATED:20240419T014856Z
LAST-MODIFIED:20240419T140446Z
UID:10000002-1714123800-1714132800@ppgcited.cavg.ifsul.edu.br
SUMMARY:Qualificação - Amanda Machado Caetano
DESCRIPTION:Título: Trilhando o Conhecimento: A Utilização da aprendizagem por Jogos para o Ensino de DNA E RNA nos Anos Finais do Ensino Fundamental \n\n\n\nOrientador (a): Maria Isabel Giusti Moreira \n\n\n\nCoorientador (a): Fabrício Luis Lovato \n\n\n\nForma: Presencial – Miniauditório 1
URL:https://ppgcited.cavg.ifsul.edu.br/index.php/bancas/banca-amanda/
LOCATION:Brasil
CATEGORIES:Banca de Qualificação
END:VEVENT
BEGIN:VEVENT
DTSTART;TZID=America/Sao_Paulo:20240430T140000
DTEND;TZID=America/Sao_Paulo:20240430T170000
DTSTAMP:20260423T041421
CREATED:20240419T135732Z
LAST-MODIFIED:20240419T140400Z
UID:10000003-1714485600-1714496400@ppgcited.cavg.ifsul.edu.br
SUMMARY:Qualificação - Carla Lourenço Belem
DESCRIPTION:Título: Utilização do Design Instrucional para o Planejamento Educacional Individualizado no Contexto Da Inclusão Escolar \n\n\n\nOrientador (a): Raymundo Carlos Machado Ferreira Filho \n\n\n\nForma: On-line
URL:https://ppgcited.cavg.ifsul.edu.br/index.php/bancas/banca-de-qualificacao-carla-lourenco-belem/
LOCATION:Brasil
CATEGORIES:Banca de Qualificação
END:VEVENT
BEGIN:VEVENT
DTSTART;TZID=America/Sao_Paulo:20240507T090000
DTEND;TZID=America/Sao_Paulo:20240507T120000
DTSTAMP:20260423T041421
CREATED:20240501T000425Z
LAST-MODIFIED:20240501T000735Z
UID:10000072-1715072400-1715083200@ppgcited.cavg.ifsul.edu.br
SUMMARY:Qualificação - Cátia Beatriz Ramson Bergmann
DESCRIPTION:Título: Proficiência em Competências Digitais para Professores do Ensino Médio \n\n\n\n\n\n\n\nOrientador (a): Raymundo Carlos Machado Ferreira Filho \n\n\n\n\n\n\n\nForma: On-line
URL:https://ppgcited.cavg.ifsul.edu.br/index.php/bancas/qualificacao-catia-beatriz-ramson-bergmann/
LOCATION:Brasil
CATEGORIES:Banca de Qualificação
END:VEVENT
BEGIN:VEVENT
DTSTART;TZID=America/Sao_Paulo:20240613T090000
DTEND;TZID=America/Sao_Paulo:20240613T120000
DTSTAMP:20260423T041421
CREATED:20240501T000837Z
LAST-MODIFIED:20240613T131011Z
UID:10000073-1718269200-1718280000@ppgcited.cavg.ifsul.edu.br
SUMMARY:Qualificação - Tânia Regina Souza Madeira
DESCRIPTION:Título: A INCLUSÃO DE SURDOS NO IFSUL CAMPUS PELOTAS E A CRIAÇÃO DE SINALÁRIO DE LIBRAS: UMA FERRAMENTA NO PROCESSO DE ENSINO APRENDIZAGEM \n\n\n\n \n\n\n\nOrientador (a): Raymundo Carlos Machado Ferreira Filho \n\n\n\n \n\n\n\nForma: On-line
URL:https://ppgcited.cavg.ifsul.edu.br/index.php/bancas/qualificacao-tania-regina-souza-madeira/
LOCATION:Brasil
CATEGORIES:Banca de Qualificação
END:VEVENT
BEGIN:VEVENT
DTSTART;TZID=America/Sao_Paulo:20240621T080000
DTEND;TZID=America/Sao_Paulo:20240621T180000
DTSTAMP:20260423T041421
CREATED:20240503T140453Z
LAST-MODIFIED:20240617T213450Z
UID:10000075-1718956800-1718992800@ppgcited.cavg.ifsul.edu.br
SUMMARY:IV Seminário do PPGCITED
DESCRIPTION:Local: Miniauitório 03 \n\n\n\n \n\n\n\nO IV Seminário do PPGCITED está programado para ocorrer em 03/06/2024 e contamos com a participação de todos/todas para nos auxiliar nesse importante momento da pós-graduação \n\n\n\n \n\n\n\nAs apresentações devem abranger aspectos como: problema de pesquisa\, objetivos\, justificativa\, referencial teórico\, revisão da literatura\, metodologia\, proposta de produto educacional (seguindo o modelo de apresentação Clique aqui). É importante destacar que a apresentação deve abranger até onde o/a aluno/aluna conseguiu desenvolver sua pesquisa. Cada apresentação terá a duração de 20 minutos\, sendo 15 minutos para a fala do/a estudante e 5 minutos para eventuais perguntas. \n\n\n\n \n\n\n\nComissão Organizadora
URL:https://ppgcited.cavg.ifsul.edu.br/index.php/bancas/iv-seminario-do-ppgcited/
LOCATION:Brasil
CATEGORIES:Banca de Defesas,Banca de Qualificação
END:VEVENT
BEGIN:VEVENT
DTSTART;TZID=America/Sao_Paulo:20240705T090000
DTEND;TZID=America/Sao_Paulo:20240705T120000
DTSTAMP:20260423T041421
CREATED:20240502T232929Z
LAST-MODIFIED:20240628T145307Z
UID:10000074-1720170000-1720180800@ppgcited.cavg.ifsul.edu.br
SUMMARY:Qualificação - Luís Fernando Da Fonseca Parada
DESCRIPTION:Título: DESENVOLVIMENTO DE COMPETÊNCIAS DIGITAIS PARA PROFESSORES DA EDUCAÇÃO INFANTIL DO SESC-RS \n\n\n\n \n\n\n\nOrientador (a): Raymundo Carlos Machado Ferreira Filho \n\n\n\n \n\n\n\nForma: On-line
URL:https://ppgcited.cavg.ifsul.edu.br/index.php/bancas/qualificacao-luis-fernando-da-fonseca-parada/
LOCATION:Brasil
CATEGORIES:Banca de Qualificação
END:VEVENT
BEGIN:VEVENT
DTSTART;TZID=America/Sao_Paulo:20240712T100000
DTEND;TZID=America/Sao_Paulo:20240712T120000
DTSTAMP:20260423T041421
CREATED:20240614T180020Z
LAST-MODIFIED:20240614T180020Z
UID:10000079-1720778400-1720785600@ppgcited.cavg.ifsul.edu.br
SUMMARY:Qualificação - Lorena Ferreira Pinho
DESCRIPTION:Título:EDUCAÇÃO EMOCIONAL NO AMBIENTE ESCOLAR: UMA PROPOSTA PEDAGÓGICA \n\n\n\nOrientador (a): Prof. Dr. Nelson Reyes Marques \n\n\n\nForma: Presencial – Sala de Aula do PPGCITED
URL:https://ppgcited.cavg.ifsul.edu.br/index.php/bancas/qualificacao-lorena-ferreira-pinho/
LOCATION:Brasil
CATEGORIES:Banca de Qualificação
END:VEVENT
BEGIN:VEVENT
DTSTART;TZID=America/Sao_Paulo:20240809T100000
DTEND;TZID=America/Sao_Paulo:20240809T120000
DTSTAMP:20260423T041421
CREATED:20240708T180554Z
LAST-MODIFIED:20240708T180621Z
UID:10000083-1723197600-1723204800@ppgcited.cavg.ifsul.edu.br
SUMMARY:Qualificação - Maribel Jorge Buss
DESCRIPTION:Título: Entre cientistas e o debate de gênero no ensino de Física: quais histórias não te contaram na escola? \n\n\n\nOrientador (a): Prof. Dr. Maykon Gonçalves Müller \nCoorientador (a): Prof. Dr. Nelson Luiz Reyes Marques \n\n\n\nForma: Online
URL:https://ppgcited.cavg.ifsul.edu.br/index.php/bancas/qualificacao-maribel-jorge-buss/
LOCATION:Brasil
CATEGORIES:Banca de Qualificação
END:VEVENT
BEGIN:VEVENT
DTSTART;TZID=America/Sao_Paulo:20240820T093000
DTEND;TZID=America/Sao_Paulo:20240820T120000
DTSTAMP:20260423T041421
CREATED:20240802T173121Z
LAST-MODIFIED:20240802T173121Z
UID:10000090-1724146200-1724155200@ppgcited.cavg.ifsul.edu.br
SUMMARY:Qualificação - Fernanda Voss Centeno
DESCRIPTION:Título:O Parque Anna Laura e o Desenvolvimento Integral da Criança \n\n\n\nOrientador (a): Prof. Dr. Raymundo Carlos Machado Ferreira Filho \n\n\n\nForma: Online
URL:https://ppgcited.cavg.ifsul.edu.br/index.php/bancas/qualificacao-fernanda-voss-centeno/
LOCATION:Brasil
CATEGORIES:Banca de Qualificação
END:VEVENT
BEGIN:VEVENT
DTSTART;TZID=America/Sao_Paulo:20240828T093000
DTEND;TZID=America/Sao_Paulo:20240828T120000
DTSTAMP:20260423T041421
CREATED:20240730T023707Z
LAST-MODIFIED:20240730T023746Z
UID:10000089-1724837400-1724846400@ppgcited.cavg.ifsul.edu.br
SUMMARY:Qualificação - Raquiel Schäfer Jahnke
DESCRIPTION:Título: Noções pré-contagem de bebês e crianças bem pequenas: um estudo qualitativo \n\n\n\nOrientador (a): Prof. Dr. Vinicius Carvalho Beck \n\n\n\nForma: Miniauditório do PPGCITED
URL:https://ppgcited.cavg.ifsul.edu.br/index.php/bancas/qualificacao-raquiel-schafer-jahnke/
LOCATION:Brasil
CATEGORIES:Banca de Qualificação
END:VEVENT
BEGIN:VEVENT
DTSTART;TZID=America/Sao_Paulo:20240904T100000
DTEND;TZID=America/Sao_Paulo:20240904T120000
DTSTAMP:20260423T041421
CREATED:20240708T180809Z
LAST-MODIFIED:20240816T172356Z
UID:10000084-1725444000-1725451200@ppgcited.cavg.ifsul.edu.br
SUMMARY:Qualificação - Carolina Ribeiro da Cunha
DESCRIPTION:Título: Adoção e Difusão da Metodologia de Ensino WebQuest para o Ensino de Ciências: um Estudo de Caso com Docentes de uma Escola do Munícipio de Pelotas-RS \n\n\n\nOrientador (a): Prof. Dr. Maykon Gonçalves Müller \nCoorientador (a): Profa. Dra. Maria Isabel Gisuti Moreira \n\n\n\nForma: Auditório 03
URL:https://ppgcited.cavg.ifsul.edu.br/index.php/bancas/qualificacao-daiquel-einhardt-de-oliveira/
LOCATION:Brasil
CATEGORIES:Banca de Qualificação
END:VEVENT
BEGIN:VEVENT
DTSTART;TZID=America/Sao_Paulo:20240927T140000
DTEND;TZID=America/Sao_Paulo:20240927T160000
DTSTAMP:20260423T041421
CREATED:20240816T172551Z
LAST-MODIFIED:20240816T172607Z
UID:10000094-1727445600-1727452800@ppgcited.cavg.ifsul.edu.br
SUMMARY:Qualificação - Luciana Rossales Farias
DESCRIPTION:Título: Despertando a Curiosidade Científica: Introdução aos Seres Vivos na Educação Infantil \n\n\n\nOrientador (a): Prof. Dr. Nelson Luiz Reyes Marques \n\n\n\nForma:Sala de Aula do PPGCITED
URL:https://ppgcited.cavg.ifsul.edu.br/index.php/bancas/qualificacao-luciana-rossales-farias/
LOCATION:Brasil
CATEGORIES:Banca de Qualificação
END:VEVENT
BEGIN:VEVENT
DTSTART;TZID=America/Sao_Paulo:20240927T140000
DTEND;TZID=America/Sao_Paulo:20240927T160000
DTSTAMP:20260423T041422
CREATED:20240829T175455Z
LAST-MODIFIED:20240829T175455Z
UID:10000096-1727445600-1727452800@ppgcited.cavg.ifsul.edu.br
SUMMARY:Qualificação - Lilian Fetzer
DESCRIPTION:Título: FICHA TÉCNICA COMO MATERIAL POTENCIALMENTE SIGNIFICATIVO NA FORMAÇÃO DE ESTUDANTES DO CURSO SUPERIOR DE TECNOLOGIA EM DESIGN DE MODA \n\n\n\nOrientador (a): Prof. Dr. Fernando Augusto Treptow Brod \nCoorientador (a): Profa. Dra. Frantieska Huszar Schneid \n\n\n\nForma: Miniauditório 02
URL:https://ppgcited.cavg.ifsul.edu.br/index.php/bancas/qualificacao-lilian-fetzer/
LOCATION:Brasil
CATEGORIES:Banca de Qualificação
END:VEVENT
BEGIN:VEVENT
DTSTART;TZID=America/Sao_Paulo:20241008T140000
DTEND;TZID=America/Sao_Paulo:20241008T160000
DTSTAMP:20260423T041422
CREATED:20240923T015804Z
LAST-MODIFIED:20240923T015804Z
UID:10000099-1728396000-1728403200@ppgcited.cavg.ifsul.edu.br
SUMMARY:Qualificação - Crisane Brum dos Santos
DESCRIPTION:Título:Além da visão: Um estudo de caso sobre a aprendizagem de operações aditivas entre frações com uso de representações em Braille por estudantes deficientes visuais \n\n\n\nOrientador (a): Prof. Dr. Vinícius Carvalho Beck \n\n\n\nForma: Auditório 03
URL:https://ppgcited.cavg.ifsul.edu.br/index.php/bancas/qualificacao-crisane-brum-dos-santos/
LOCATION:Brasil
CATEGORIES:Banca de Qualificação
END:VEVENT
BEGIN:VEVENT
DTSTART;TZID=America/Sao_Paulo:20241016T090000
DTEND;TZID=America/Sao_Paulo:20241016T120000
DTSTAMP:20260423T041422
CREATED:20240923T221332Z
LAST-MODIFIED:20240923T221411Z
UID:10000100-1729069200-1729080000@ppgcited.cavg.ifsul.edu.br
SUMMARY:Qualificação - Janaína de Oliveira Pereira
DESCRIPTION:Título:Um estudo de caso sobre o ensino das partes das plantas nos anos iniciais apartir de uma sequência didática envolvendo passeio no entorno escolar \n\n\n\nOrientador (a): Prof. Dr. Vinicis Carvalho Beck \n\n\n\nForma: On-line
URL:https://ppgcited.cavg.ifsul.edu.br/index.php/bancas/qualificacao-janaina-de-oliveira-pereira-2/
LOCATION:Brasil
CATEGORIES:Banca de Qualificação
END:VEVENT
BEGIN:VEVENT
DTSTART;TZID=America/Sao_Paulo:20241025T090000
DTEND;TZID=America/Sao_Paulo:20241025T120000
DTSTAMP:20260423T041422
CREATED:20241009T114534Z
LAST-MODIFIED:20241009T114613Z
UID:10000102-1729846800-1729857600@ppgcited.cavg.ifsul.edu.br
SUMMARY:Qualificação - Matheus Constenla Brião
DESCRIPTION:Título: Utilizando a Produção Musical como Recurso Potencialmente Significativo para o Ensino de Acústica na Física \n\n\n\nOrientador (a): Prof. Dr. João Ladislau Barbará Lopes \n\n\n\nForma: Laboratório de Informática 4 (Mídias)
URL:https://ppgcited.cavg.ifsul.edu.br/index.php/bancas/qualificacao-matheus-constenla-briao/
LOCATION:Brasil
CATEGORIES:Banca de Qualificação
END:VEVENT
BEGIN:VEVENT
DTSTART;TZID=America/Sao_Paulo:20241025T140000
DTEND;TZID=America/Sao_Paulo:20241025T160000
DTSTAMP:20260423T041422
CREATED:20240923T221549Z
LAST-MODIFIED:20240923T221549Z
UID:10000101-1729864800-1729872000@ppgcited.cavg.ifsul.edu.br
SUMMARY:Qualificação - Aline Andersson Rodrigues
DESCRIPTION:Título: EXPLORANDO CONCEITOS DE ASTRONOMIA NA INFÂNCIA: UMA PROPOSTA DIDÁTICA PARA OS ANOS INICIAIS DO ENSINO FUNDAMENTAL \n\n\n\nOrientador (a): Prof. Dr. Nelson Luiz Reyes Marques \nCoorientador (a): Prof. Dr. Luis Ricardo Moretto Tusnski \n\n\n\nForma:Sala de Aula do PPGCITED
URL:https://ppgcited.cavg.ifsul.edu.br/index.php/bancas/qualificacao-aline-andersson-rodrigues/
LOCATION:Brasil
CATEGORIES:Banca de Qualificação
END:VEVENT
BEGIN:VEVENT
DTSTART;TZID=America/Sao_Paulo:20241106T093000
DTEND;TZID=America/Sao_Paulo:20241106T120000
DTSTAMP:20260423T041422
CREATED:20241014T175735Z
LAST-MODIFIED:20241014T175756Z
UID:10000103-1730885400-1730894400@ppgcited.cavg.ifsul.edu.br
SUMMARY:Qualificação - Rita Andrades dos Santos
DESCRIPTION:Título: RESSIGNIFICANDO O ENSINO DE FÍSICA ATRAVÉS AS ATIVIDADESEXPERIMENTAIS PARA ESTUDANTES COM DEFICIÊNCIA INTELECTUAL \n\n\n\nOrientador (a): Prof. Dr. Raymundo Carlos Machado Ferreira Filho \n\n\n\nForma: On-line
URL:https://ppgcited.cavg.ifsul.edu.br/index.php/bancas/qualificacao-rita-andrades-dos-santos/
LOCATION:Brasil
CATEGORIES:Banca de Qualificação
END:VEVENT
BEGIN:VEVENT
DTSTART;TZID=America/Sao_Paulo:20241120T093000
DTEND;TZID=America/Sao_Paulo:20241120T120000
DTSTAMP:20260423T041422
CREATED:20241107T033256Z
LAST-MODIFIED:20241107T033256Z
UID:10000113-1732095000-1732104000@ppgcited.cavg.ifsul.edu.br
SUMMARY:Qualificação - Daniela Sanches de Souza
DESCRIPTION:Título: BRINCADEIRAS DO PASSADO\, HABILIDADES PARA O FUTURO: INTERVENÇÕES LÚDICAS NO ALPAPATO PARA A PROMOÇÃO DE HABILIDADES SOCIAIS EM CRIANÇAS COM TRANSTORNO DO ESPECTRO AUTISTA \n\n\n\nOrientador (a): Prof. Dr. Raymundo Carlos Machado Ferreira Filho \n\n\n\nForma: Online
URL:https://ppgcited.cavg.ifsul.edu.br/index.php/bancas/qualificacao-daniela-sanches-de-souza/
LOCATION:Brasil
CATEGORIES:Banca de Qualificação
END:VEVENT
BEGIN:VEVENT
DTSTART;TZID=America/Sao_Paulo:20241121T093000
DTEND;TZID=America/Sao_Paulo:20241121T120000
DTSTAMP:20260423T041422
CREATED:20241023T025952Z
LAST-MODIFIED:20241023T025952Z
UID:10000107-1732181400-1732190400@ppgcited.cavg.ifsul.edu.br
SUMMARY:Qualificação - Ricardo Prediger
DESCRIPTION:Título: SEQUÊNCIA DIDÁTICA COMO POSSIBILIDADE PARA POTENCIALIZAR ASAPRENDIZAGENS EM CONTROLE DE PROCESSOS NO CURSO TÉCNICOEM AUTOMAÇÃO INDUSTRIAL? \n\n\n\nOrientador (a): Prof. Dr. Fernando Augusto Treptow Brod \nCoorientador (a): Profa. Dra. Maria Isabel Giusti Moreira \n\n\n\nForma: Miniauditório 3
URL:https://ppgcited.cavg.ifsul.edu.br/index.php/bancas/qualificacao-ricardo-prediger/
LOCATION:Brasil
CATEGORIES:Banca de Qualificação
END:VEVENT
BEGIN:VEVENT
DTSTART;TZID=America/Sao_Paulo:20241122T090000
DTEND;TZID=America/Sao_Paulo:20241122T120000
DTSTAMP:20260423T041422
CREATED:20241023T030305Z
LAST-MODIFIED:20241023T132720Z
UID:10000108-1732266000-1732276800@ppgcited.cavg.ifsul.edu.br
SUMMARY:Qualificação - Luana Oliveira da Silva
DESCRIPTION:Título: HISTÓRIAS QUE CONTAM: A MAGIA DA ÁLGEBRA NA LITERATURA INFANTIL \n\n\n\nOrientador (a): Profa. Dra. Angelita Hentges. \nCoorientador (a): Profa. Dra. Maria Isabel Giusti Moreira \n\n\n\nForma: Miniauditório 02
URL:https://ppgcited.cavg.ifsul.edu.br/index.php/bancas/qualificacao-luana-oliveira-da-silva/
LOCATION:Brasil
CATEGORIES:Banca de Qualificação
END:VEVENT
BEGIN:VEVENT
DTSTART;TZID=America/Sao_Paulo:20241122T140000
DTEND;TZID=America/Sao_Paulo:20241122T140000
DTSTAMP:20260423T041422
CREATED:20241023T132916Z
LAST-MODIFIED:20241023T132955Z
UID:10000109-1732284000-1732284000@ppgcited.cavg.ifsul.edu.br
SUMMARY:Qualificação - Paola Gonçalves Farias
DESCRIPTION:Título:ALFABETIZAÇÃO E LETRAMENTO A PARTIR DO BIOMA PAMPA: CONSCIÊNCIA\, PRESERVAÇÃO E CUIDADO NO PROCESSO EDUCACIONAL \n\n\n\nOrientador (a): Profa. Dra. Angelita Hentges. \nCoorientador (a): Profa. Dra. Maria Isabel Giusti Moreira \n\n\n\nForma: Miniauditório 02
URL:https://ppgcited.cavg.ifsul.edu.br/index.php/bancas/qualificacao-paola-goncalves-farias/
LOCATION:Brasil
CATEGORIES:Banca de Qualificação
END:VEVENT
BEGIN:VEVENT
DTSTART;TZID=America/Sao_Paulo:20241129T143000
DTEND;TZID=America/Sao_Paulo:20241129T160000
DTSTAMP:20260423T041422
CREATED:20241111T134920Z
LAST-MODIFIED:20241111T134950Z
UID:10000114-1732890600-1732896000@ppgcited.cavg.ifsul.edu.br
SUMMARY:Qualificação - Meri Helen Bjerk Vieira Ribeiro
DESCRIPTION:Título: DESENVOLVIMENTO INTEGRAL DA CRIANÇA CEGA ATRAVÉS DO BRINCAR NO PARQUE ALPAPATO \n\n\n\nOrientador (a): Prof. Dr. Raymundo Carlos Machado Ferreira Filho \n\n\n\nForma: Online
URL:https://ppgcited.cavg.ifsul.edu.br/index.php/bancas/qualificacao-meri-helen-bjerk-vieira-ribeiro/
LOCATION:Brasil
CATEGORIES:Banca de Qualificação
END:VEVENT
BEGIN:VEVENT
DTSTART;TZID=America/Sao_Paulo:20250314T083000
DTEND;TZID=America/Sao_Paulo:20250314T093000
DTSTAMP:20260423T041422
CREATED:20250312T031529Z
LAST-MODIFIED:20250312T031655Z
UID:10000130-1741941000-1741944600@ppgcited.cavg.ifsul.edu.br
SUMMARY:Aula Inaugural - PPGCITED 2025
DESCRIPTION:
URL:https://ppgcited.cavg.ifsul.edu.br/index.php/bancas/aula-inaugural-ppgcited-2025/
LOCATION:Brasil
CATEGORIES:Banca de Qualificação
END:VEVENT
BEGIN:VEVENT
DTSTART;TZID=America/Sao_Paulo:20250327T090000
DTEND;TZID=America/Sao_Paulo:20250327T120000
DTSTAMP:20260423T041422
CREATED:20250310T164954Z
LAST-MODIFIED:20250310T165221Z
UID:10000123-1743066000-1743076800@ppgcited.cavg.ifsul.edu.br
SUMMARY:Qualificação - Michele Araujo de Castro Mancini
DESCRIPTION:Título: Acidente do Trabalho em Espaço Confinado: Sequência Didática Aplicada no Curso Técnico em Segurança do Trabalho – Senac Rio Grande \n\n\n\nOrientador (a): Prof. Dr. João Ladislau Barbará Lopes \n\n\n\n\n\nForma: Miniauditório 3
URL:https://ppgcited.cavg.ifsul.edu.br/index.php/bancas/qualificacao-michele-araujo-de-castro-mancini/
LOCATION:Brasil
CATEGORIES:Banca de Qualificação
END:VEVENT
BEGIN:VEVENT
DTSTART;TZID=America/Sao_Paulo:20250327T100000
DTEND;TZID=America/Sao_Paulo:20250327T120000
DTSTAMP:20260423T041422
CREATED:20250312T030811Z
LAST-MODIFIED:20250312T030811Z
UID:10000129-1743069600-1743076800@ppgcited.cavg.ifsul.edu.br
SUMMARY:Qualificação - Lisiana Silveira de Moura
DESCRIPTION:Título: VEM LER NO PARQUE DA ANNA: PROMOVENDO A INCLUSÃO E A IMAGINAÇÃO \n\n\n\nOrientador (a): Prof. Dr. Raymundo Carlos Machado Ferreira Filho \n\n\n\n\n\nForma: On-line
URL:https://ppgcited.cavg.ifsul.edu.br/index.php/bancas/qualificacao-lisiana-silveira-de-moura/
LOCATION:Brasil
CATEGORIES:Banca de Qualificação
END:VEVENT
BEGIN:VEVENT
DTSTART;TZID=America/Sao_Paulo:20250328T093000
DTEND;TZID=America/Sao_Paulo:20250328T120000
DTSTAMP:20260423T041422
CREATED:20250310T165944Z
LAST-MODIFIED:20250310T170011Z
UID:10000126-1743154200-1743163200@ppgcited.cavg.ifsul.edu.br
SUMMARY:Qualificação - Elisa Emanuele Vasconcelos Nasser
DESCRIPTION:Título: TECNOLOGIAS NO ENSINO DE CIÊNCIAS: REFERATÓRIO DE CONTEÚDOS FORMAIS COM SINAIS-TERMO EM LIBRAS NO INSTITUTO FEDERAL SUL-RIO-GRANDENSE \n\n\n\nOrientador (a): Prof. Dr. Raymundo Carlos Machado Ferreira Filho \n\n\n\n\n\nForma: Online
URL:https://ppgcited.cavg.ifsul.edu.br/index.php/bancas/qualificacao-elisa-emanuele-vasconcelos-nasser/
LOCATION:Brasil
CATEGORIES:Banca de Qualificação
END:VEVENT
BEGIN:VEVENT
DTSTART;TZID=America/Sao_Paulo:20250403T140000
DTEND;TZID=America/Sao_Paulo:20250403T160000
DTSTAMP:20260423T041422
CREATED:20250312T030237Z
LAST-MODIFIED:20250312T030237Z
UID:10000128-1743688800-1743696000@ppgcited.cavg.ifsul.edu.br
SUMMARY:Qualificação - Tavane Ferreira Braga
DESCRIPTION:Título: AÇÃO E REFLEXÃO NO ENSINO DE FÍSICA: SEQUÊNCIA DIDÁTICA PARA O ENSINO DE ELETROMAGNETISMO NUMA PERSPECTIVA FREIRIANA \n\n\n\nOrientador (a): Prof. Dr. Cristiano da Silva Buss \n\n\n\n\n\nForma: Miniauditório 3
URL:https://ppgcited.cavg.ifsul.edu.br/index.php/bancas/qualificacao-tavane-ferreira-braga/
LOCATION:Brasil
CATEGORIES:Banca de Qualificação
END:VEVENT
BEGIN:VEVENT
DTSTART;TZID=America/Sao_Paulo:20250425T163000
DTEND;TZID=America/Sao_Paulo:20250425T180000
DTSTAMP:20260423T041422
CREATED:20250408T022537Z
LAST-MODIFIED:20250408T022604Z
UID:10000133-1745598600-1745604000@ppgcited.cavg.ifsul.edu.br
SUMMARY:Qualificação - Vanessa Garcia Machado
DESCRIPTION:Título:BRINCADEIRAS SENSORIAIS: ESTIMULANDO O DESENVOLVIMENTO INFANTIL ATRAVÉS DOS SENTIDOS \n\n\n\nOrientador (a): Prof. Dr. Nelson Luiz Reyes Marques \n\n\n\n\n\nForma: Sala de aula do PPGCITED
URL:https://ppgcited.cavg.ifsul.edu.br/index.php/bancas/qualificacao-vanessa-garcia-machado/
LOCATION:Brasil
CATEGORIES:Banca de Qualificação
END:VEVENT
END:VCALENDAR